View In:
ArcGIS JavaScript
ArcGIS Online Map Viewer
ArcGIS Earth
Service Description: aerials2021
Name: aerials2021
Description:
Single Fused Map Cache: false
Extent:
XMin: 1088741.8887918293
YMin: 145340.2173204422
XMax: 1256687.8887918293
YMax: 366534.2173204422
Spatial Reference: 102748
(2285)
LatestVCSWkid(0)
Initial Extent:
XMin: 1088741.8887918293
YMin: 145340.2173204422
XMax: 1256687.8887918293
YMax: 366534.2173204422
Spatial Reference: 102748
(2285)
LatestVCSWkid(0)
Full Extent:
XMin: 1088741.8887918293
YMin: 145340.2173204422
XMax: 1256687.8887918293
YMax: 366534.2173204422
Spatial Reference: 102748
(2285)
LatestVCSWkid(0)
Pixel Size X: 0.5
Pixel Size Y: 0.5
Band Count: 5
Pixel Type: U8
RasterFunction Infos: {"rasterFunctionInfos": [{
"name": "None",
"description": "",
"help": ""
}]}
Mensuration Capabilities: Basic
Inspection Capabilities:
Has Histograms: true
Has Colormap: false
Has Multi Dimensions : false
Rendering Rule:
Min Scale: 0
Max Scale: 0
Resampling: false
Copyright Text:
Service Data Type: esriImageServiceDataTypeGeneric
Min Values: 0, 0, 0, 0, 0
Max Values: 255, 255, 255, 255, 255
Mean Values: 28.2198582766566, 32.821608796397804, 32.52736549804655, 39.65705917057056, 60.26881904463139
Standard Deviation Values: 33.4736338090466, 36.4679432938326, 35.193994645181654, 50.19594721281733, 83.18672131702314
Object ID Field:
Fields:
None
Default Mosaic Method: Center
Allowed Mosaic Methods:
SortField:
SortValue: null
Mosaic Operator: First
Default Compression Quality: 75
Default Resampling Method: Bilinear
Max Record Count: null
Max Image Height: 4100
Max Image Width: 15000
Max Download Image Count: null
Max Mosaic Image Count: null
Allow Raster Function: true
Allow Copy: true
Allow Analysis: true
Allow Compute TiePoints: false
Supports Statistics: false
Supports Advanced Queries: false
Use StandardizedQueries: false
Raster Type Infos:
Name: Raster Dataset
Description: Supports all ArcGIS Raster Datasets
Help:
Has Raster Attribute Table: false
Edit Fields Info: null
Ownership Based AccessControl For Rasters: null
Child Resources:
Info
Histograms
Statistics
Key Properties
Legend
Raster Function Infos
Supported Operations:
Export Image
Identify
Measure
Compute Histograms
Compute Statistics Histograms
Get Samples
Compute Class Statistics
Query Boundary
Compute Pixel Location
Compute Angles
Validate
Project