{
 "cimVersion": "3.0.0",
 "serviceDescription": "",
 "mapName": "Map",
 "description": "",
 "copyrightText": "",
 "supportsDynamicLayers": false,
 "layers": [
  {
   "id": 0,
   "name": "gisdb_water.DBO.PressureZones_H",
   "parentLayerId": -1,
   "defaultVisibility": true,
   "subLayerIds": null,
   "minScale": 0,
   "maxScale": 0,
   "type": "Feature Layer",
   "geometryType": "esriGeometryPolygon",
   "supportsDynamicLegends": true
  }
 ],
 "tables": [],
 "spatialReference": {
  "wkid": 102748,
  "latestWkid": 2285,
  "xyTolerance": 0.003280833333333333,
  "zTolerance": 0.001,
  "mTolerance": 0.001,
  "falseX": -117104300,
  "falseY": -99539600,
  "xyUnits": 3048.0060960121928,
  "falseZ": -100000,
  "zUnits": 10000,
  "falseM": -100000,
  "mUnits": 10000
 },
 "singleFusedMapCache": true,
 "tileInfo": {
  "rows": 256,
  "cols": 256,
  "dpi": 96,
  "format": "PNG",
  "compressionQuality": 0,
  "origin": {
   "x": -1.1710392661120817E8,
   "y": 1.1983097835022256E8
  },
  "spatialReference": {
   "wkid": 102748,
   "latestWkid": 2285,
   "xyTolerance": 0.003280833333333333,
   "zTolerance": 0.001,
   "mTolerance": 0.001,
   "falseX": -117104300,
   "falseY": -99539600,
   "xyUnits": 3048.0060960121928,
   "falseZ": -100000,
   "zUnits": 10000,
   "falseM": -100000,
   "mUnits": 10000
  },
  "lods": [
   {
    "level": 0,
    "resolution": 927690.1818583971,
    "scale": 1.0687012269033273E9
   },
   {
    "level": 1,
    "resolution": 463845.09092919854,
    "scale": 5.343506134516637E8
   },
   {
    "level": 2,
    "resolution": 231922.54546459927,
    "scale": 2.6717530672583184E8
   },
   {
    "level": 3,
    "resolution": 115961.27273229964,
    "scale": 1.3358765336291592E8
   },
   {
    "level": 4,
    "resolution": 57980.63636614982,
    "scale": 6.679382668145796E7
   },
   {
    "level": 5,
    "resolution": 28990.31818307491,
    "scale": 3.339691334072898E7
   },
   {
    "level": 6,
    "resolution": 14495.159091537455,
    "scale": 1.669845667036449E7
   },
   {
    "level": 7,
    "resolution": 7247.579545768727,
    "scale": 8349228.335182245
   },
   {
    "level": 8,
    "resolution": 3623.7897728843636,
    "scale": 4174614.1675911224
   },
   {
    "level": 9,
    "resolution": 1811.8948864421818,
    "scale": 2087307.0837955612
   },
   {
    "level": 10,
    "resolution": 905.9474432210909,
    "scale": 1043653.5418977806
   },
   {
    "level": 11,
    "resolution": 452.97372161054545,
    "scale": 521826.7709488903
   },
   {
    "level": 12,
    "resolution": 226.48686080527273,
    "scale": 260913.38547444515
   },
   {
    "level": 13,
    "resolution": 113.24343040263636,
    "scale": 130456.69273722258
   },
   {
    "level": 14,
    "resolution": 56.62171520131818,
    "scale": 65228.34636861129
   },
   {
    "level": 15,
    "resolution": 28.31085760065909,
    "scale": 32614.173184305644
   },
   {
    "level": 16,
    "resolution": 14.155428800329545,
    "scale": 16307.086592152822
   },
   {
    "level": 17,
    "resolution": 7.077714400164773,
    "scale": 8153.543296076411
   },
   {
    "level": 18,
    "resolution": 3.5388572000823864,
    "scale": 4076.7716480382055
   }
  ]
 },
 "storageInfo": {
  "storageFormat": "esriMapCacheStorageModeCompactV2",
  "packetSize": 128
 },
 "initialExtent": {
  "xmin": 1142698.0055164397,
  "ymin": 176668.52869463264,
  "xmax": 1216857.0124109238,
  "ymax": 245017.050429073,
  "spatialReference": {
   "wkid": 102748,
   "latestWkid": 2285,
   "xyTolerance": 0.003280833333333333,
   "zTolerance": 0.001,
   "mTolerance": 0.001,
   "falseX": -117104300,
   "falseY": -99539600,
   "xyUnits": 3048.0060960121928,
   "falseZ": -100000,
   "zUnits": 10000,
   "falseM": -100000,
   "mUnits": 10000
  }
 },
 "fullExtent": {
  "xmin": 1154348.177440554,
  "ymin": 179775.27968256176,
  "xmax": 1205206.8404868096,
  "ymax": 241910.29944114387,
  "spatialReference": {
   "wkid": 102748,
   "latestWkid": 2285,
   "xyTolerance": 0.003280833333333333,
   "zTolerance": 0.001,
   "mTolerance": 0.001,
   "falseX": -117104300,
   "falseY": -99539600,
   "xyUnits": 3048.0060960121928,
   "falseZ": -100000,
   "zUnits": 10000,
   "falseM": -100000,
   "mUnits": 10000
  }
 },
 "datesInUnknownTimezone": false,
 "units": "esriFeet",
 "supportedImageFormatTypes": "PNG32,PNG24,PNG,JPG,DIB,TIFF,EMF,PS,PDF,GIF,SVG,SVGZ,BMP",
 "documentInfo": {
  "Title": "C:\\Users\\david.buffington\\Documents\\ArcGIS\\Projects\\MyProject7\\MyProject7.aprx",
  "Author": "",
  "Comments": "",
  "Subject": "",
  "Category": "",
  "Version": "2.9.0",
  "AntialiasingMode": "None",
  "TextAntialiasingMode": "Force",
  "Keywords": ""
 },
 "supportedQueryFormats": "JSON, geoJSON, PBF",
 "referenceScale": 0.0,
 "datumTransformations": [
  {
   "geoTransforms": [
    {
     "wkid": 108190,
     "latestWkid": 108190,
     "transformForward": true,
     "name": "WGS_1984_(ITRF00)_To_NAD_1983"
    }
   ]
  },
  {
   "geoTransforms": [
    {
     "wkid": 108190,
     "latestWkid": 108190,
     "transformForward": false,
     "name": "WGS_1984_(ITRF00)_To_NAD_1983"
    }
   ]
  }
 ],
 "supportsDatumTransformation": true,
 "archivingInfo": {
  "supportsHistoricMoment": false
 },
 "supportsClipping": true,
 "supportsSpatialFilter": true,
 "supportsTimeRelation": true,
 "supportsQueryDataElements": true,
 "maxRecordCount": 1000,
 "maxImageHeight": 4096,
 "maxImageWidth": 4096,
 "currentVersion": 12.9,
 "capabilities": "TilesOnly,Tilemap",
 "minScale": 130456.69273722258,
 "maxScale": 4076.7716480382055,
 "exportTilesAllowed": false,
 "maxExportTilesCount": 100000,
 "minLOD": 13,
 "maxLOD": 18,
 "supportedExtensions": "",
 "serviceItemId": "db5a574bed5d46f0a7e8462cc7e71c1d"
}
